BEGIN:VCALENDAR
VERSION:2.0
PRODID:-//St. Petersburg Presbyterian Church - ECPv6.15.20//NONSGML v1.0//EN
CALSCALE:GREGORIAN
METHOD:PUBLISH
X-ORIGINAL-URL:https://stpetepca.org
X-WR-CALDESC:Events for St. Petersburg Presbyterian Church
REFRESH-INTERVAL;VALUE=DURATION:PT1H
X-Robots-Tag:noindex
X-PUBLISHED-TTL:PT1H
BEGIN:VTIMEZONE
TZID:UTC
BEGIN:STANDARD
TZOFFSETFROM:+0000
TZOFFSETTO:+0000
TZNAME:UTC
DTSTART:20220101T000000
END:STANDARD
END:VTIMEZONE
BEGIN:VEVENT
DTSTART;TZID=UTC:20230910T090000
DTEND;TZID=UTC:20230910T100000
DTSTAMP:20260420T035642
CREATED:20230818T120056Z
LAST-MODIFIED:20230818T145801Z
UID:12157-1694336400-1694340000@stpetepca.org
SUMMARY:Sunday School
DESCRIPTION:Take advantage of the children\, youth and adult Sunday school classes to grow in the grace and knowledge of Jesus Christ. \n 
URL:https://stpetepca.org/event/sunday-school-2021-05-30/
LOCATION:St. Petersburg Presbyterian Church
CATEGORIES:Church Function
ORGANIZER;CN="Alex Woods":MAILTO:a.woods@stpetepca.org
END:VEVENT
END:VCALENDAR