BEGIN:VCALENDAR
VERSION:2.0
PRODID:-//St. Petersburg Presbyterian Church - ECPv6.15.20//NONSGML v1.0//EN
CALSCALE:GREGORIAN
METHOD:PUBLISH
X-ORIGINAL-URL:https://stpetepca.org
X-WR-CALDESC:Events for St. Petersburg Presbyterian Church
REFRESH-INTERVAL;VALUE=DURATION:PT1H
X-Robots-Tag:noindex
X-PUBLISHED-TTL:PT1H
BEGIN:VTIMEZONE
TZID:America/New_York
BEGIN:DAYLIGHT
TZOFFSETFROM:-0500
TZOFFSETTO:-0400
TZNAME:EDT
DTSTART:20220313T070000
END:DAYLIGHT
BEGIN:STANDARD
TZOFFSETFROM:-0400
TZOFFSETTO:-0500
TZNAME:EST
DTSTART:20221106T060000
END:STANDARD
BEGIN:DAYLIGHT
TZOFFSETFROM:-0500
TZOFFSETTO:-0400
TZNAME:EDT
DTSTART:20230312T070000
END:DAYLIGHT
BEGIN:STANDARD
TZOFFSETFROM:-0400
TZOFFSETTO:-0500
TZNAME:EST
DTSTART:20231105T060000
END:STANDARD
BEGIN:DAYLIGHT
TZOFFSETFROM:-0500
TZOFFSETTO:-0400
TZNAME:EDT
DTSTART:20240310T070000
END:DAYLIGHT
BEGIN:STANDARD
TZOFFSETFROM:-0400
TZOFFSETTO:-0500
TZNAME:EST
DTSTART:20241103T060000
END:STANDARD
END:VTIMEZONE
BEGIN:VEVENT
DTSTART;TZID=America/New_York:20230907T183000
DTEND;TZID=America/New_York:20230907T200000
DTSTAMP:20260420T072128
CREATED:20230825T153425Z
LAST-MODIFIED:20230825T154807Z
UID:16952-1694111400-1694116800@stpetepca.org
SUMMARY:Christian Cadets
DESCRIPTION:Fathers and men working alongside their sons to learn to glorify God in all aspects of life\, including devotionally\, mentally\, physically\, and socially. Learning skills such as serving the church body\, tying a tie\, car maintenance\, and beyond. \n 
URL:https://stpetepca.org/event/christian-cadets/
LOCATION:St. Petersburg Presbyterian Church
CATEGORIES:Church Function
ORGANIZER;CN="John Howat":MAILTO:johnhowat5@gmail.com
END:VEVENT
BEGIN:VEVENT
DTSTART;TZID=America/New_York:20231207T183000
DTEND;TZID=America/New_York:20231207T210000
DTSTAMP:20260420T072128
CREATED:20231102T142324Z
LAST-MODIFIED:20231107T201509Z
UID:17247-1701973800-1701982800@stpetepca.org
SUMMARY:Women’s Christmas Party 
DESCRIPTION:Join us for Christmas fellowship and fun on Thursday\, December 7th at 6:30 p.m. at Ann Krueger’s home\, 645 18th Avenue NE\, St Petersburg.   Bring a White Elephant gift. RSVP to Kelly Rogers at kelly.lynn.rogers6@gmail.com.
URL:https://stpetepca.org/event/womens-christmas-party/
CATEGORIES:Church Function
ORGANIZER;CN="Kelly Rogers":MAILTO:kelly.lynn.rogers6@gmail.com
END:VEVENT
END:VCALENDAR