BEGIN:VCALENDAR
VERSION:2.0
PRODID:-//St. Petersburg Presbyterian Church - ECPv6.15.20//NONSGML v1.0//EN
CALSCALE:GREGORIAN
METHOD:PUBLISH
X-ORIGINAL-URL:https://stpetepca.org
X-WR-CALDESC:Events for St. Petersburg Presbyterian Church
REFRESH-INTERVAL;VALUE=DURATION:PT1H
X-Robots-Tag:noindex
X-PUBLISHED-TTL:PT1H
BEGIN:VTIMEZONE
TZID:UTC
BEGIN:STANDARD
TZOFFSETFROM:+0000
TZOFFSETTO:+0000
TZNAME:UTC
DTSTART:20220101T000000
END:STANDARD
END:VTIMEZONE
BEGIN:VEVENT
DTSTART;TZID=UTC:20230407T043000
DTEND;TZID=UTC:20230407T090000
DTSTAMP:20260420T144607
CREATED:20230317T175354Z
LAST-MODIFIED:20230317T175354Z
UID:16235-1680841800-1680858000@stpetepca.org
SUMMARY:Reading through the Psalms on Good Friday
DESCRIPTION:Please join us for the 8th annual SPPC Good Friday Psalm reading on Friday\, April 7\, at Kyle and Ann Krueger’s home\, 645 18th Avenue NE. We will begin at 4:00 a.m. and be finished by 9:00. The psalms are not only Jesus’ prayerbook\, but they are all about him. Coffee will be served! Call Kyle Krueger at 727-364-7355 with any questions. Doors open at 3:45 a.m. \n 
URL:https://stpetepca.org/event/reading-through-the-psalms-on-good-friday-2/
LOCATION:Kyle and Ann Krueger\, 645 18th Ave NE\, St. Petersburg\, Florida\, 33704
CATEGORIES:Church Function
END:VEVENT
END:VCALENDAR