BEGIN:VCALENDAR
VERSION:2.0
PRODID:-//St. Petersburg Presbyterian Church - ECPv6.15.20//NONSGML v1.0//EN
CALSCALE:GREGORIAN
METHOD:PUBLISH
X-ORIGINAL-URL:https://stpetepca.org
X-WR-CALDESC:Events for St. Petersburg Presbyterian Church
REFRESH-INTERVAL;VALUE=DURATION:PT1H
X-Robots-Tag:noindex
X-PUBLISHED-TTL:PT1H
BEGIN:VTIMEZONE
TZID:UTC
BEGIN:STANDARD
TZOFFSETFROM:+0000
TZOFFSETTO:+0000
TZNAME:UTC
DTSTART:20200101T000000
END:STANDARD
END:VTIMEZONE
BEGIN:VEVENT
DTSTART;TZID=UTC:20230110T093000
DTEND;TZID=UTC:20230110T113000
DTSTAMP:20260420T144601
CREATED:20221215T234355Z
LAST-MODIFIED:20221215T234355Z
UID:15856-1673343000-1673350200@stpetepca.org
SUMMARY:Women’s Bible Study
DESCRIPTION:SPPC’s Women’s Bible Study resumes on January 10 at 9:30 a.m. in the fellowship hall.  We will be studying the book entitled Blessed by Nancy Guthrie. This is a study on the book of Revelation. Please sign up (so we can make name tags) in the fellowship hall. Books and Personal Bible Study guides are available for $15.  Please read the introduction and complete Lesson One/Week One  to prepare for our first study. All are welcome!  Childcare is available\, so please indicate if needed.  For more information or questions\, contact Sharon Stonecipher at smstone54@gmail.com. 
URL:https://stpetepca.org/event/womens-bible-study-7/
CATEGORIES:Church Function
END:VEVENT
BEGIN:VEVENT
DTSTART;TZID=UTC:20220920T183000
DTEND;TZID=UTC:20220920T200000
DTSTAMP:20260420T144601
CREATED:20230502T120011Z
LAST-MODIFIED:20230502T192049Z
UID:15375-1663698600-1663704000@stpetepca.org
SUMMARY:Jenkins Community Group
DESCRIPTION:
URL:https://stpetepca.org/event/jenkins-community-group-3/
LOCATION:Jenkins\, 4541 52nd Ave N.\, St. Petersburg\, FL\, 33714\, United States
CATEGORIES:Church Function
END:VEVENT
BEGIN:VEVENT
DTSTART;TZID=UTC:20211012T193000
DTEND;TZID=UTC:20211012T203000
DTSTAMP:20260420T144601
CREATED:20230404T120000Z
LAST-MODIFIED:20230404T203135Z
UID:11497-1634067000-1634070600@stpetepca.org
SUMMARY:James Club
DESCRIPTION:The James Club group of AA is a Christ-centered outreach ministry for those struggling with alcohol and drug addictions. It meets on Tuesday evenings at 7:30 in the fellowship hall. For more information\, contact Kyle Krueger at kkrueger@bloomberg.net. \n 
URL:https://stpetepca.org/event/james-club-2/
LOCATION:St. Petersburg Presbyterian Church
CATEGORIES:Church Function
ORGANIZER;CN="Kyle  Krueger":MAILTO:kkrueger@bloomberg.net
END:VEVENT
END:VCALENDAR