BEGIN:VCALENDAR
VERSION:2.0
PRODID:-//St. Petersburg Presbyterian Church - ECPv6.15.20//NONSGML v1.0//EN
CALSCALE:GREGORIAN
METHOD:PUBLISH
X-WR-CALNAME:St. Petersburg Presbyterian Church
X-ORIGINAL-URL:https://stpetepca.org
X-WR-CALDESC:Events for St. Petersburg Presbyterian Church
REFRESH-INTERVAL;VALUE=DURATION:PT1H
X-Robots-Tag:noindex
X-PUBLISHED-TTL:PT1H
BEGIN:VTIMEZONE
TZID:UTC
BEGIN:STANDARD
TZOFFSETFROM:+0000
TZOFFSETTO:+0000
TZNAME:UTC
DTSTART:20210101T000000
END:STANDARD
END:VTIMEZONE
BEGIN:VEVENT
DTSTART;TZID=UTC:20221208T190000
DTEND;TZID=UTC:20221208T210000
DTSTAMP:20260420T204932
CREATED:20221115T130000Z
LAST-MODIFIED:20221116T005628Z
UID:15396-1670526000-1670533200@stpetepca.org
SUMMARY:Ladies Dinner Fellowship
DESCRIPTION:Our December fellowship will be Thursday\, December 8\, at 7:00 p.m. at Kelly Roger’s home\, 2809 Shore Breeze Dr.\, Tampa\, for a dessert and Christmas candle/mug swap. More details to follow. Please RSVP to Kelly Rogers at kelly.lynn.rogers6@gmail.com. \n  \n 
URL:https://stpetepca.org/event/ladies-dinner-fellowship-2022-12-15/
LOCATION:Roger’s Home\, 2809 Shore Breeze Dr.\, Tampa
CATEGORIES:Church Function
ORGANIZER;CN="Kelly Rogers":MAILTO:kelly.lynn.rogers6@gmail.com
END:VEVENT
END:VCALENDAR