BEGIN:VCALENDAR
VERSION:2.0
PRODID:-//St. Petersburg Presbyterian Church - ECPv6.15.20//NONSGML v1.0//EN
CALSCALE:GREGORIAN
METHOD:PUBLISH
X-ORIGINAL-URL:https://stpetepca.org
X-WR-CALDESC:Events for St. Petersburg Presbyterian Church
REFRESH-INTERVAL;VALUE=DURATION:PT1H
X-Robots-Tag:noindex
X-PUBLISHED-TTL:PT1H
BEGIN:VTIMEZONE
TZID:UTC
BEGIN:STANDARD
TZOFFSETFROM:+0000
TZOFFSETTO:+0000
TZNAME:UTC
DTSTART:20210101T000000
END:STANDARD
END:VTIMEZONE
BEGIN:VEVENT
DTSTART;VALUE=DATE:20221028
DTEND;VALUE=DATE:20221030
DTSTAMP:20260420T173904
CREATED:20220419T120057Z
LAST-MODIFIED:20220419T203841Z
UID:9084-1666915200-1667087999@stpetepca.org
SUMMARY:Women's Retreat
DESCRIPTION:
URL:https://stpetepca.org/event/womens-retreat/
LOCATION:Day Springs Retreat Center\, 8411 25th St. E.\, Parrish\, Florida\, 34219
CATEGORIES:Church Function
END:VEVENT
END:VCALENDAR