BEGIN:VCALENDAR
VERSION:2.0
PRODID:-//St. Petersburg Presbyterian Church - ECPv6.15.20//NONSGML v1.0//EN
CALSCALE:GREGORIAN
METHOD:PUBLISH
X-WR-CALNAME:St. Petersburg Presbyterian Church
X-ORIGINAL-URL:https://stpetepca.org
X-WR-CALDESC:Events for St. Petersburg Presbyterian Church
REFRESH-INTERVAL;VALUE=DURATION:PT1H
X-Robots-Tag:noindex
X-PUBLISHED-TTL:PT1H
BEGIN:VTIMEZONE
TZID:UTC
BEGIN:STANDARD
TZOFFSETFROM:+0000
TZOFFSETTO:+0000
TZNAME:UTC
DTSTART:20190101T000000
END:STANDARD
END:VTIMEZONE
BEGIN:VEVENT
DTSTART;TZID=UTC:20220911T083000
DTEND;TZID=UTC:20220911T083000
DTSTAMP:20260420T174101
CREATED:20221215T204259Z
LAST-MODIFIED:20221215T233936Z
UID:14968-1662885000-1662885000@stpetepca.org
SUMMARY:Congregational Prayer
DESCRIPTION:
URL:https://stpetepca.org/event/congregational-prayer-3/
CATEGORIES:Church Function
END:VEVENT
BEGIN:VEVENT
DTSTART;TZID=UTC:20200719T101500
DTEND;TZID=UTC:20200719T101500
DTSTAMP:20260420T174101
CREATED:20221229T130053Z
LAST-MODIFIED:20221229T212429Z
UID:8287-1595153700-1595153700@stpetepca.org
SUMMARY:Worship
DESCRIPTION:Click on the link to access the worship service through Facebook live streaming.
URL:https://stpetepca.org/event/worship/
LOCATION:St. Petersburg Presbyterian Church
CATEGORIES:Church Function
END:VEVENT
BEGIN:VEVENT
DTSTART;TZID=UTC:20220828T114500
DTEND;TZID=UTC:20220828T114500
DTSTAMP:20260420T174101
CREATED:20220825T191310Z
LAST-MODIFIED:20220825T191551Z
UID:15143-1661687100-1661687100@stpetepca.org
SUMMARY:Session and Diaconate Meeting
DESCRIPTION:
URL:https://stpetepca.org/event/session-and-diaconate-meeting/
CATEGORIES:Church Function
END:VEVENT
BEGIN:VEVENT
DTSTART;TZID=UTC:20221016T173000
DTEND;TZID=UTC:20221016T173000
DTSTAMP:20260420T174101
CREATED:20220825T120017Z
LAST-MODIFIED:20220825T192252Z
UID:14761-1665941400-1665941400@stpetepca.org
SUMMARY:20th Anniversary Celebration
DESCRIPTION:
URL:https://stpetepca.org/event/20th-anniversary-celebration/
LOCATION:St. Petersburg Presbyterian Church
CATEGORIES:Church Function
ORGANIZER;CN="Lynn Harding":MAILTO:lynnharding@tampabay.rr.com
END:VEVENT
END:VCALENDAR