BEGIN:VCALENDAR
VERSION:2.0
PRODID:-//St. Petersburg Presbyterian Church - ECPv6.15.20//NONSGML v1.0//EN
CALSCALE:GREGORIAN
METHOD:PUBLISH
X-WR-CALNAME:St. Petersburg Presbyterian Church
X-ORIGINAL-URL:https://stpetepca.org
X-WR-CALDESC:Events for St. Petersburg Presbyterian Church
REFRESH-INTERVAL;VALUE=DURATION:PT1H
X-Robots-Tag:noindex
X-PUBLISHED-TTL:PT1H
BEGIN:VTIMEZONE
TZID:UTC
BEGIN:STANDARD
TZOFFSETFROM:+0000
TZOFFSETTO:+0000
TZNAME:UTC
DTSTART:20210101T000000
END:STANDARD
END:VTIMEZONE
BEGIN:VEVENT
DTSTART;TZID=UTC:20220723T090000
DTEND;TZID=UTC:20220723T130000
DTSTAMP:20260420T191446
CREATED:20220719T204812Z
LAST-MODIFIED:20220719T204812Z
UID:14867-1658566800-1658581200@stpetepca.org
SUMMARY:Situational Awareness Training
DESCRIPTION:Join us for situational awareness training at the church. \nThis training will use a course called “Refuse to be a Victim” as the basis for instruction and I will add some commentary from my personal experiences in the national security environment to help us as ensure we are providing the safest environment for the flock to worship. \nAnyone interested in more information about this specific training can check out https://rtbav.nra.org/ \nIf you can attend\, please email me at: alex.d.rogers@pm.me.
URL:https://stpetepca.org/event/situational-awareness-training/
LOCATION:St. Petersburg Presbyterian Church
CATEGORIES:Church Function
END:VEVENT
END:VCALENDAR