BEGIN:VCALENDAR
VERSION:2.0
PRODID:-//St. Petersburg Presbyterian Church - ECPv6.15.20//NONSGML v1.0//EN
CALSCALE:GREGORIAN
METHOD:PUBLISH
X-WR-CALNAME:St. Petersburg Presbyterian Church
X-ORIGINAL-URL:https://stpetepca.org
X-WR-CALDESC:Events for St. Petersburg Presbyterian Church
REFRESH-INTERVAL;VALUE=DURATION:PT1H
X-Robots-Tag:noindex
X-PUBLISHED-TTL:PT1H
BEGIN:VTIMEZONE
TZID:UTC
BEGIN:STANDARD
TZOFFSETFROM:+0000
TZOFFSETTO:+0000
TZNAME:UTC
DTSTART:20210101T000000
END:STANDARD
END:VTIMEZONE
BEGIN:VEVENT
DTSTART;TZID=UTC:20220721T180000
DTEND;TZID=UTC:20220721T180000
DTSTAMP:20260420T191334
CREATED:20220616T202740Z
LAST-MODIFIED:20220616T202740Z
UID:14793-1658426400-1658426400@stpetepca.org
SUMMARY:Women's Fellowship
DESCRIPTION:Please join us for dinner at 6pm at BJ’s Restaurant in Pinellas Park. This is a great opportunity to connect with new and old friends\, and enjoy a causal night of fellowship! We hope to see you there. Please contact Kelly Rogers at kelly.lynn.rogers6@gmail.com with any questions. No RSVP needed. \n 
URL:https://stpetepca.org/event/womens-fellowship/
LOCATION:BJ’s Restaurant\, 3800 N. Park Blvd\, Pinellas Park\, FL\, 33781
CATEGORIES:Church Function
ORGANIZER;CN="Kelly Rogers":MAILTO:kelly.lynn.rogers6@gmail.com
END:VEVENT
END:VCALENDAR