BEGIN:VCALENDAR
VERSION:2.0
PRODID:-//St. Petersburg Presbyterian Church - ECPv6.15.20//NONSGML v1.0//EN
CALSCALE:GREGORIAN
METHOD:PUBLISH
X-WR-CALNAME:St. Petersburg Presbyterian Church
X-ORIGINAL-URL:https://stpetepca.org
X-WR-CALDESC:Events for St. Petersburg Presbyterian Church
REFRESH-INTERVAL;VALUE=DURATION:PT1H
X-Robots-Tag:noindex
X-PUBLISHED-TTL:PT1H
BEGIN:VTIMEZONE
TZID:UTC
BEGIN:STANDARD
TZOFFSETFROM:+0000
TZOFFSETTO:+0000
TZNAME:UTC
DTSTART:20210101T000000
END:STANDARD
END:VTIMEZONE
BEGIN:VEVENT
DTSTART;TZID=UTC:20220608T180000
DTEND;TZID=UTC:20220608T180000
DTSTAMP:20260420T204934
CREATED:20220517T120032Z
LAST-MODIFIED:20220517T220029Z
UID:14578-1654711200-1654711200@stpetepca.org
SUMMARY:Summer “Wednesdays in the Word”
DESCRIPTION:Be part of SPPC’s “Wednesdays–in-the–Word” series\, beginning June 8. This summer\, we’ll be looking at God’s Big Picture by Vaughn Roberts. This is an excellent summary and overview of the storyline of the Bible. We’ll enjoy a pizza dinner at 6:00\, followed by a brief video and discussion around the tables. For more information contact Pastor Alex at a.woods@stpetepca.org. Also\, if you would like to help with childcare during some of the sessions\, please let Alex know. \n 
URL:https://stpetepca.org/event/summer-wednesdays-in-the-word/
LOCATION:St. Petersburg Presbyterian Church
CATEGORIES:Church Function
END:VEVENT
END:VCALENDAR