BEGIN:VCALENDAR
VERSION:2.0
PRODID:-//St. Petersburg Presbyterian Church - ECPv6.15.20//NONSGML v1.0//EN
CALSCALE:GREGORIAN
METHOD:PUBLISH
X-ORIGINAL-URL:https://stpetepca.org
X-WR-CALDESC:Events for St. Petersburg Presbyterian Church
REFRESH-INTERVAL;VALUE=DURATION:PT1H
X-Robots-Tag:noindex
X-PUBLISHED-TTL:PT1H
BEGIN:VTIMEZONE
TZID:UTC
BEGIN:STANDARD
TZOFFSETFROM:+0000
TZOFFSETTO:+0000
TZNAME:UTC
DTSTART:20210101T000000
END:STANDARD
END:VTIMEZONE
BEGIN:VEVENT
DTSTART;TZID=UTC:20220205T090000
DTEND;TZID=UTC:20220205T120000
DTSTAMP:20260420T120412
CREATED:20210118T130055Z
LAST-MODIFIED:20220118T222845Z
UID:13496-1644051600-1644062400@stpetepca.org
SUMMARY:Membership Matters Seminar
DESCRIPTION:If you are interested in becoming a member of SPPC\, or want to learn more about the Christian faith and the ministries of our church\, then join us for “Membership Matters” Saturday morning (breakfast). Please register by contacting Lynn Harding at lynnharding@tampabay.rr.com or 727-709-5740.
URL:https://stpetepca.org/event/membership-matters-seminar-5/
LOCATION:St. Petersburg Presbyterian Church
CATEGORIES:Church Function
END:VEVENT
END:VCALENDAR