BEGIN:VCALENDAR
VERSION:2.0
PRODID:-//St. Petersburg Presbyterian Church - ECPv6.15.20//NONSGML v1.0//EN
CALSCALE:GREGORIAN
METHOD:PUBLISH
X-ORIGINAL-URL:https://stpetepca.org
X-WR-CALDESC:Events for St. Petersburg Presbyterian Church
REFRESH-INTERVAL;VALUE=DURATION:PT1H
X-Robots-Tag:noindex
X-PUBLISHED-TTL:PT1H
BEGIN:VTIMEZONE
TZID:UTC
BEGIN:STANDARD
TZOFFSETFROM:+0000
TZOFFSETTO:+0000
TZNAME:UTC
DTSTART:20210101T000000
END:STANDARD
END:VTIMEZONE
BEGIN:VEVENT
DTSTART;TZID=UTC:20220204T183000
DTEND;TZID=UTC:20220204T183000
DTSTAMP:20260420T120414
CREATED:20220118T130033Z
LAST-MODIFIED:20220118T222803Z
UID:13320-1643999400-1643999400@stpetepca.org
SUMMARY:Membership Matters Seminar
DESCRIPTION:If you are interested in becoming a member of SPPC\, or want to learn more about the Christian faith and the ministries of our church\, then join us for “Membership Matters” on February 4-5. This is a weekend seminar\, Friday evening (dinner included) and Saturday morning (breakfast). Please register by contacting Lynn Harding at lynnharding@tampabay.rr.com or 727-709-5740. \n 
URL:https://stpetepca.org/event/membership-matters-seminar-4/
LOCATION:Harding’s\, 1541 Eden Isle Blvd. NE\, St. Petersburg\, Florida\, 33704
CATEGORIES:Church Function
ORGANIZER;CN="Pastor David Harding":MAILTO:d.harding@stpetepca.org
END:VEVENT
END:VCALENDAR