BEGIN:VCALENDAR
VERSION:2.0
PRODID:-//St. Petersburg Presbyterian Church - ECPv6.15.20//NONSGML v1.0//EN
CALSCALE:GREGORIAN
METHOD:PUBLISH
X-WR-CALNAME:St. Petersburg Presbyterian Church
X-ORIGINAL-URL:https://stpetepca.org
X-WR-CALDESC:Events for St. Petersburg Presbyterian Church
REFRESH-INTERVAL;VALUE=DURATION:PT1H
X-Robots-Tag:noindex
X-PUBLISHED-TTL:PT1H
BEGIN:VTIMEZONE
TZID:UTC
BEGIN:STANDARD
TZOFFSETFROM:+0000
TZOFFSETTO:+0000
TZNAME:UTC
DTSTART:20210101T000000
END:STANDARD
END:VTIMEZONE
BEGIN:VEVENT
DTSTART;TZID=UTC:20220202T190000
DTEND;TZID=UTC:20220202T190000
DTSTAMP:20260420T144457
CREATED:20220412T120017Z
LAST-MODIFIED:20220412T190427Z
UID:13354-1643828400-1643828400@stpetepca.org
SUMMARY:Shadle/Burkham Community Group
DESCRIPTION:Light meal\, prayer and fellowship
URL:https://stpetepca.org/event/shadle-burkham-community-group/
LOCATION:Burkhams\, 12033 Gandy Blvd. N. Unit #182\, 8th floor\, St. Petersburg\, FL\, 33702
CATEGORIES:Church Function
END:VEVENT
END:VCALENDAR