BEGIN:VCALENDAR
VERSION:2.0
PRODID:-//St. Petersburg Presbyterian Church - ECPv6.15.20//NONSGML v1.0//EN
CALSCALE:GREGORIAN
METHOD:PUBLISH
X-ORIGINAL-URL:https://stpetepca.org
X-WR-CALDESC:Events for St. Petersburg Presbyterian Church
REFRESH-INTERVAL;VALUE=DURATION:PT1H
X-Robots-Tag:noindex
X-PUBLISHED-TTL:PT1H
BEGIN:VTIMEZONE
TZID:UTC
BEGIN:STANDARD
TZOFFSETFROM:+0000
TZOFFSETTO:+0000
TZNAME:UTC
DTSTART:20190101T000000
END:STANDARD
END:VTIMEZONE
BEGIN:VEVENT
DTSTART;TZID=UTC:20210912T083000
DTEND;TZID=UTC:20210912T083000
DTSTAMP:20260420T104155
CREATED:20210827T210535Z
LAST-MODIFIED:20210907T171134Z
UID:13280-1631435400-1631435400@stpetepca.org
SUMMARY:Congregational Prayer
DESCRIPTION:
URL:https://stpetepca.org/event/congregational-prayer-2/
CATEGORIES:Church Function
END:VEVENT
BEGIN:VEVENT
DTSTART;TZID=UTC:20210912T090000
DTEND;TZID=UTC:20210912T090000
DTSTAMP:20260420T104155
CREATED:20210505T120013Z
LAST-MODIFIED:20220505T192132Z
UID:13238-1631437200-1631437200@stpetepca.org
SUMMARY:Bible Classes for All Ages
DESCRIPTION:Join us for Sunday school classes for all ages. Take advantage of these opportunities to grow in the grace and knowledge of Jesus Christ. \n 
URL:https://stpetepca.org/event/sunday-school-2/
CATEGORIES:Church Function
END:VEVENT
BEGIN:VEVENT
DTSTART;TZID=UTC:20200719T101500
DTEND;TZID=UTC:20200719T101500
DTSTAMP:20260420T104155
CREATED:20221229T130053Z
LAST-MODIFIED:20221229T212429Z
UID:8287-1595153700-1595153700@stpetepca.org
SUMMARY:Worship
DESCRIPTION:Click on the link to access the worship service through Facebook live streaming.
URL:https://stpetepca.org/event/worship/
LOCATION:St. Petersburg Presbyterian Church
CATEGORIES:Church Function
END:VEVENT
END:VCALENDAR