BEGIN:VCALENDAR
VERSION:2.0
PRODID:-//St. Petersburg Presbyterian Church - ECPv6.15.20//NONSGML v1.0//EN
CALSCALE:GREGORIAN
METHOD:PUBLISH
X-ORIGINAL-URL:https://stpetepca.org
X-WR-CALDESC:Events for St. Petersburg Presbyterian Church
REFRESH-INTERVAL;VALUE=DURATION:PT1H
X-Robots-Tag:noindex
X-PUBLISHED-TTL:PT1H
BEGIN:VTIMEZONE
TZID:UTC
BEGIN:STANDARD
TZOFFSETFROM:+0000
TZOFFSETTO:+0000
TZNAME:UTC
DTSTART:20200101T000000
END:STANDARD
END:VTIMEZONE
BEGIN:VEVENT
DTSTART;TZID=UTC:20210828T090000
DTEND;TZID=UTC:20210828T120000
DTSTAMP:20260420T173906
CREATED:20210618T173318Z
LAST-MODIFIED:20210618T173318Z
UID:13036-1630141200-1630152000@stpetepca.org
SUMMARY:Worship Ensemble Retreat
DESCRIPTION:Join us for a mini music retreat at the church in preparation for the new Worship Ensemble that will share in leading worship once a month. If the Lord has blessed you with musical gifts and a heart to worship\, please join us August 28 for a morning of worship and singing as we prepare to make a joyful noise to the Lord! For more information\, please contact Donna Grabill at donnagrabill@gmail.com. \n 
URL:https://stpetepca.org/event/worship-ensemble-retreat/
LOCATION:St. Petersburg Presbyterian Church
CATEGORIES:Church Function
ORGANIZER;CN="Donna Grabill":MAILTO:donnagrabill@gmail.com
END:VEVENT
END:VCALENDAR