BEGIN:VCALENDAR
VERSION:2.0
PRODID:-//St. Petersburg Presbyterian Church - ECPv6.15.20//NONSGML v1.0//EN
CALSCALE:GREGORIAN
METHOD:PUBLISH
X-WR-CALNAME:St. Petersburg Presbyterian Church
X-ORIGINAL-URL:https://stpetepca.org
X-WR-CALDESC:Events for St. Petersburg Presbyterian Church
REFRESH-INTERVAL;VALUE=DURATION:PT1H
X-Robots-Tag:noindex
X-PUBLISHED-TTL:PT1H
BEGIN:VTIMEZONE
TZID:UTC
BEGIN:STANDARD
TZOFFSETFROM:+0000
TZOFFSETTO:+0000
TZNAME:UTC
DTSTART:20190101T000000
END:STANDARD
END:VTIMEZONE
BEGIN:VEVENT
DTSTART;TZID=UTC:20200913T083000
DTEND;TZID=UTC:20200913T083000
DTSTAMP:20260420T173839
CREATED:20201224T130026Z
LAST-MODIFIED:20201224T195621Z
UID:8427-1599985800-1599985800@stpetepca.org
SUMMARY:Congregational Prayer
DESCRIPTION:
URL:https://stpetepca.org/event/congregational-prayer/
LOCATION:St. Petersburg Presbyterian Church
CATEGORIES:Church Function
ORGANIZER;CN="Pastor Harding":MAILTO:d.harding@stpetepca.org
END:VEVENT
BEGIN:VEVENT
DTSTART;TZID=UTC:20200913T090000
DTEND;TZID=UTC:20200913T090000
DTSTAMP:20260420T173839
CREATED:20200507T120056Z
LAST-MODIFIED:20210507T182053Z
UID:8469-1599987600-1599987600@stpetepca.org
SUMMARY:Sunday School
DESCRIPTION:Take advantage of the children\, youth and adult Sunday school classes to grow in the grace and knowledge of Jesus Christ. \n 
URL:https://stpetepca.org/event/sunday-school/
LOCATION:St. Petersburg Presbyterian Church
CATEGORIES:Church Function
ORGANIZER;CN="Pastor David Harding":MAILTO:d.harding@stpetepca.org
END:VEVENT
BEGIN:VEVENT
DTSTART;TZID=UTC:20200719T101500
DTEND;TZID=UTC:20200719T101500
DTSTAMP:20260420T173839
CREATED:20221229T130053Z
LAST-MODIFIED:20221229T212429Z
UID:8287-1595153700-1595153700@stpetepca.org
SUMMARY:Worship
DESCRIPTION:Click on the link to access the worship service through Facebook live streaming.
URL:https://stpetepca.org/event/worship/
LOCATION:St. Petersburg Presbyterian Church
CATEGORIES:Church Function
END:VEVENT
END:VCALENDAR