BEGIN:VCALENDAR
VERSION:2.0
PRODID:-//St. Petersburg Presbyterian Church - ECPv6.15.20//NONSGML v1.0//EN
CALSCALE:GREGORIAN
METHOD:PUBLISH
X-WR-CALNAME:St. Petersburg Presbyterian Church
X-ORIGINAL-URL:https://stpetepca.org
X-WR-CALDESC:Events for St. Petersburg Presbyterian Church
REFRESH-INTERVAL;VALUE=DURATION:PT1H
X-Robots-Tag:noindex
X-PUBLISHED-TTL:PT1H
BEGIN:VTIMEZONE
TZID:UTC
BEGIN:STANDARD
TZOFFSETFROM:+0000
TZOFFSETTO:+0000
TZNAME:UTC
DTSTART:20190101T000000
END:STANDARD
END:VTIMEZONE
BEGIN:VEVENT
DTSTART;TZID=UTC:20200908T190000
DTEND;TZID=UTC:20200908T190000
DTSTAMP:20260420T204935
CREATED:20200908T180028Z
LAST-MODIFIED:20200908T180334Z
UID:11614-1599591600-1599591600@stpetepca.org
SUMMARY:Women's Bible Study - Zoom Meeting
DESCRIPTION:
URL:https://stpetepca.org/event/womens-bible-study-zoom-meeting/
CATEGORIES:Church Function
END:VEVENT
END:VCALENDAR