BEGIN:VCALENDAR
VERSION:2.0
PRODID:-//St. Petersburg Presbyterian Church - ECPv6.15.20//NONSGML v1.0//EN
CALSCALE:GREGORIAN
METHOD:PUBLISH
X-ORIGINAL-URL:https://stpetepca.org
X-WR-CALDESC:Events for St. Petersburg Presbyterian Church
REFRESH-INTERVAL;VALUE=DURATION:PT1H
X-Robots-Tag:noindex
X-PUBLISHED-TTL:PT1H
BEGIN:VTIMEZONE
TZID:UTC
BEGIN:STANDARD
TZOFFSETFROM:+0000
TZOFFSETTO:+0000
TZNAME:UTC
DTSTART:20190101T000000
END:STANDARD
END:VTIMEZONE
BEGIN:VEVENT
DTSTART;TZID=UTC:20200325T190000
DTEND;TZID=UTC:20200325T190000
DTSTAMP:20260420T230647
CREATED:20200527T120013Z
LAST-MODIFIED:20200527T192142Z
UID:10042-1585162800-1585162800@stpetepca.org
SUMMARY:On Line Community Groups
DESCRIPTION:  \n\nTo join us for community groups\, click here to access the online directory\n\n 
URL:https://stpetepca.org/event/community-groups/
LOCATION:St. Petersburg Presbyterian Church
CATEGORIES:Church Function
END:VEVENT
END:VCALENDAR