BEGIN:VCALENDAR
VERSION:2.0
PRODID:-//St. Petersburg Presbyterian Church - ECPv6.15.20//NONSGML v1.0//EN
CALSCALE:GREGORIAN
METHOD:PUBLISH
X-WR-CALNAME:St. Petersburg Presbyterian Church
X-ORIGINAL-URL:https://stpetepca.org
X-WR-CALDESC:Events for St. Petersburg Presbyterian Church
REFRESH-INTERVAL;VALUE=DURATION:PT1H
X-Robots-Tag:noindex
X-PUBLISHED-TTL:PT1H
BEGIN:VTIMEZONE
TZID:UTC
BEGIN:STANDARD
TZOFFSETFROM:+0000
TZOFFSETTO:+0000
TZNAME:UTC
DTSTART:20190101T000000
END:STANDARD
END:VTIMEZONE
BEGIN:VEVENT
DTSTART;TZID=UTC:20211012T193000
DTEND;TZID=UTC:20211012T203000
DTSTAMP:20260420T161135
CREATED:20230404T120000Z
LAST-MODIFIED:20230404T203135Z
UID:11497-1634067000-1634070600@stpetepca.org
SUMMARY:James Club
DESCRIPTION:The James Club group of AA is a Christ-centered outreach ministry for those struggling with alcohol and drug addictions. It meets on Tuesday evenings at 7:30 in the fellowship hall. For more information\, contact Kyle Krueger at kkrueger@bloomberg.net. \n 
URL:https://stpetepca.org/event/james-club-2/
LOCATION:St. Petersburg Presbyterian Church
CATEGORIES:Church Function
ORGANIZER;CN="Kyle  Krueger":MAILTO:kkrueger@bloomberg.net
END:VEVENT
BEGIN:VEVENT
DTSTART;TZID=UTC:20200719T101500
DTEND;TZID=UTC:20200719T101500
DTSTAMP:20260420T161135
CREATED:20221229T130053Z
LAST-MODIFIED:20221229T212429Z
UID:8287-1595153700-1595153700@stpetepca.org
SUMMARY:Worship
DESCRIPTION:Click on the link to access the worship service through Facebook live streaming.
URL:https://stpetepca.org/event/worship/
LOCATION:St. Petersburg Presbyterian Church
CATEGORIES:Church Function
END:VEVENT
BEGIN:VEVENT
DTSTART;TZID=UTC:20211012T193000
DTEND;TZID=UTC:20211012T203000
DTSTAMP:20260420T161135
CREATED:20230404T120000Z
LAST-MODIFIED:20230404T203135Z
UID:11497-1634067000-1634070600@stpetepca.org
SUMMARY:James Club
DESCRIPTION:The James Club group of AA is a Christ-centered outreach ministry for those struggling with alcohol and drug addictions. It meets on Tuesday evenings at 7:30 in the fellowship hall. For more information\, contact Kyle Krueger at kkrueger@bloomberg.net. \n 
URL:https://stpetepca.org/event/james-club-2/
LOCATION:St. Petersburg Presbyterian Church
CATEGORIES:Church Function
ORGANIZER;CN="Kyle  Krueger":MAILTO:kkrueger@bloomberg.net
END:VEVENT
BEGIN:VEVENT
DTSTART;TZID=UTC:20200719T101500
DTEND;TZID=UTC:20200719T101500
DTSTAMP:20260420T161135
CREATED:20221229T130053Z
LAST-MODIFIED:20221229T212429Z
UID:8287-1595153700-1595153700@stpetepca.org
SUMMARY:Worship
DESCRIPTION:Click on the link to access the worship service through Facebook live streaming.
URL:https://stpetepca.org/event/worship/
LOCATION:St. Petersburg Presbyterian Church
CATEGORIES:Church Function
END:VEVENT
BEGIN:VEVENT
DTSTART;TZID=UTC:20211012T193000
DTEND;TZID=UTC:20211012T203000
DTSTAMP:20260420T161135
CREATED:20230404T120000Z
LAST-MODIFIED:20230404T203135Z
UID:11497-1634067000-1634070600@stpetepca.org
SUMMARY:James Club
DESCRIPTION:The James Club group of AA is a Christ-centered outreach ministry for those struggling with alcohol and drug addictions. It meets on Tuesday evenings at 7:30 in the fellowship hall. For more information\, contact Kyle Krueger at kkrueger@bloomberg.net. \n 
URL:https://stpetepca.org/event/james-club-2/
LOCATION:St. Petersburg Presbyterian Church
CATEGORIES:Church Function
ORGANIZER;CN="Kyle  Krueger":MAILTO:kkrueger@bloomberg.net
END:VEVENT
BEGIN:VEVENT
DTSTART;TZID=UTC:20220818T180000
DTEND;TZID=UTC:20220818T180000
DTSTAMP:20260420T161135
CREATED:20220804T032218Z
LAST-MODIFIED:20220804T033541Z
UID:14899-1660845600-1660845600@stpetepca.org
SUMMARY:Women’s Dinner Fellowship
DESCRIPTION:Please join us for dinner on August 18\, 2022 at 6:00 p.m. at Cheddar’s Scratch Kitchen in Pinellas Park. This is a great opportunity to connect with new and old friends\, and enjoy a causal night of fellowship! We hope to see you there. Please RSVP to Kelly Rogers at kelly.lynn.rogers6@gmail.com. \n 
URL:https://stpetepca.org/event/womens-dinner-fellowship/
LOCATION:Cheddar’s Scratch Kitchen\, 4101 N. Park Blvd\, Pinellas Park\, Florida\, 33781
CATEGORIES:Church Function
END:VEVENT
BEGIN:VEVENT
DTSTART;TZID=UTC:20220820T090000
DTEND;TZID=UTC:20220820T100000
DTSTAMP:20260420T161135
CREATED:20220809T214432Z
LAST-MODIFIED:20220809T214432Z
UID:14935-1660986000-1660989600@stpetepca.org
SUMMARY:Safety/First Aid Team Meeting
DESCRIPTION:
URL:https://stpetepca.org/event/safety-first-aid-team-meeting/
CATEGORIES:Church Function
END:VEVENT
BEGIN:VEVENT
DTSTART;TZID=UTC:20220820T101500
DTEND;TZID=UTC:20220820T120000
DTSTAMP:20260420T161135
CREATED:20220819T192410Z
LAST-MODIFIED:20220819T192410Z
UID:14966-1660990500-1660996800@stpetepca.org
SUMMARY:Community Group Leader Training
DESCRIPTION:Current Community Group leaders\, and those who would like to be considered for leading a Community Group\, are encouraged to come to the Leader Orientation on Saturday\, August 20\, from 10:15-12:00 at the church. Please email Pastor Alex at a.woods@stpetepca.org if you plan to attend. \n 
URL:https://stpetepca.org/event/community-group-leader-training-2/
CATEGORIES:Church Function
END:VEVENT
BEGIN:VEVENT
DTSTART;TZID=UTC:20200719T101500
DTEND;TZID=UTC:20200719T101500
DTSTAMP:20260420T161135
CREATED:20221229T130053Z
LAST-MODIFIED:20221229T212429Z
UID:8287-1595153700-1595153700@stpetepca.org
SUMMARY:Worship
DESCRIPTION:Click on the link to access the worship service through Facebook live streaming.
URL:https://stpetepca.org/event/worship/
LOCATION:St. Petersburg Presbyterian Church
CATEGORIES:Church Function
END:VEVENT
BEGIN:VEVENT
DTSTART;TZID=UTC:20220821T114500
DTEND;TZID=UTC:20220821T114500
DTSTAMP:20260420T161135
CREATED:20220809T214615Z
LAST-MODIFIED:20220809T214615Z
UID:14937-1661082300-1661082300@stpetepca.org
SUMMARY:Women's Ministry Meeting
DESCRIPTION:
URL:https://stpetepca.org/event/womens-ministry-meeting/
CATEGORIES:Church Function
END:VEVENT
BEGIN:VEVENT
DTSTART;TZID=UTC:20211012T193000
DTEND;TZID=UTC:20211012T203000
DTSTAMP:20260420T161135
CREATED:20230404T120000Z
LAST-MODIFIED:20230404T203135Z
UID:11497-1634067000-1634070600@stpetepca.org
SUMMARY:James Club
DESCRIPTION:The James Club group of AA is a Christ-centered outreach ministry for those struggling with alcohol and drug addictions. It meets on Tuesday evenings at 7:30 in the fellowship hall. For more information\, contact Kyle Krueger at kkrueger@bloomberg.net. \n 
URL:https://stpetepca.org/event/james-club-2/
LOCATION:St. Petersburg Presbyterian Church
CATEGORIES:Church Function
ORGANIZER;CN="Kyle  Krueger":MAILTO:kkrueger@bloomberg.net
END:VEVENT
BEGIN:VEVENT
DTSTART;TZID=UTC:20200719T101500
DTEND;TZID=UTC:20200719T101500
DTSTAMP:20260420T161135
CREATED:20221229T130053Z
LAST-MODIFIED:20221229T212429Z
UID:8287-1595153700-1595153700@stpetepca.org
SUMMARY:Worship
DESCRIPTION:Click on the link to access the worship service through Facebook live streaming.
URL:https://stpetepca.org/event/worship/
LOCATION:St. Petersburg Presbyterian Church
CATEGORIES:Church Function
END:VEVENT
BEGIN:VEVENT
DTSTART;TZID=UTC:20220828T114500
DTEND;TZID=UTC:20220828T114500
DTSTAMP:20260420T161135
CREATED:20220819T191057Z
LAST-MODIFIED:20220819T191057Z
UID:14964-1661687100-1661687100@stpetepca.org
SUMMARY:20th Anniversary Planning Meeting
DESCRIPTION:On Sunday\, October 16 at 5:00 p.m.\, we will celebrate our church’s 20th anniversary. If you would like to be part of the planning team for this\, there will be a brief meeting after the      worship service in the classroom next to the fellowship hall. If you are interested in helping with the event or for more information\, contact Lynn Harding at lynnharding@tampabay.rr.com. We are specifically looking for someone with audiovisual\nexpertise to help prepare the slideshow.
URL:https://stpetepca.org/event/20th-anniversary-planning-meeting/
CATEGORIES:Church Function
END:VEVENT
BEGIN:VEVENT
DTSTART;TZID=UTC:20220828T114500
DTEND;TZID=UTC:20220828T114500
DTSTAMP:20260420T161135
CREATED:20220825T191310Z
LAST-MODIFIED:20220825T191551Z
UID:15143-1661687100-1661687100@stpetepca.org
SUMMARY:Session and Diaconate Meeting
DESCRIPTION:
URL:https://stpetepca.org/event/session-and-diaconate-meeting/
CATEGORIES:Church Function
END:VEVENT
BEGIN:VEVENT
DTSTART;TZID=UTC:20220828T114500
DTEND;TZID=UTC:20220828T170000
DTSTAMP:20260420T161135
CREATED:20220825T191454Z
LAST-MODIFIED:20220825T191505Z
UID:15149-1661687100-1661706000@stpetepca.org
SUMMARY:Children and Youth Sunday School Meeting and Lunch
DESCRIPTION:
URL:https://stpetepca.org/event/children-and-youth-sunday-school-meeting-and-lunch/
CATEGORIES:Church Function
END:VEVENT
BEGIN:VEVENT
DTSTART;TZID=UTC:20211012T193000
DTEND;TZID=UTC:20211012T203000
DTSTAMP:20260420T161135
CREATED:20230404T120000Z
LAST-MODIFIED:20230404T203135Z
UID:11497-1634067000-1634070600@stpetepca.org
SUMMARY:James Club
DESCRIPTION:The James Club group of AA is a Christ-centered outreach ministry for those struggling with alcohol and drug addictions. It meets on Tuesday evenings at 7:30 in the fellowship hall. For more information\, contact Kyle Krueger at kkrueger@bloomberg.net. \n 
URL:https://stpetepca.org/event/james-club-2/
LOCATION:St. Petersburg Presbyterian Church
CATEGORIES:Church Function
ORGANIZER;CN="Kyle  Krueger":MAILTO:kkrueger@bloomberg.net
END:VEVENT
END:VCALENDAR