BEGIN:VCALENDAR
VERSION:2.0
PRODID:-//St. Petersburg Presbyterian Church - ECPv6.15.20//NONSGML v1.0//EN
CALSCALE:GREGORIAN
METHOD:PUBLISH
X-WR-CALNAME:St. Petersburg Presbyterian Church
X-ORIGINAL-URL:https://stpetepca.org
X-WR-CALDESC:Events for St. Petersburg Presbyterian Church
REFRESH-INTERVAL;VALUE=DURATION:PT1H
X-Robots-Tag:noindex
X-PUBLISHED-TTL:PT1H
BEGIN:VTIMEZONE
TZID:UTC
BEGIN:STANDARD
TZOFFSETFROM:+0000
TZOFFSETTO:+0000
TZNAME:UTC
DTSTART:20190101T000000
END:STANDARD
END:VTIMEZONE
BEGIN:VEVENT
DTSTART;TZID=UTC:20200322T101500
DTEND;TZID=UTC:20200322T101500
DTSTAMP:20260420T151750
CREATED:20200618T120053Z
LAST-MODIFIED:20200618T201933Z
UID:8305-1584872100-1584872100@stpetepca.org
SUMMARY:Worship (Live Streaming)
DESCRIPTION:Click on the link to access the worship service through Facebook live streaming.
URL:https://stpetepca.org/event/worship-2020-03-08/
LOCATION:St. Petersburg Presbyterian Church
CATEGORIES:Church Function
END:VEVENT
BEGIN:VEVENT
DTSTART;TZID=UTC:20200705T101500
DTEND;TZID=UTC:20200705T101500
DTSTAMP:20260420T151750
CREATED:20200618T120053Z
LAST-MODIFIED:20200709T182414Z
UID:11232-1593944100-1593944100@stpetepca.org
SUMMARY:Worship (Live Streaming)
DESCRIPTION:Click on the link to access the worship service through Facebook live streaming.
URL:https://stpetepca.org/event/worship-2020-03-08-2020-07-05/
LOCATION:St. Petersburg Presbyterian Church
CATEGORIES:Church Function
END:VEVENT
BEGIN:VEVENT
DTSTART;TZID=UTC:20200705T101500
DTEND;TZID=UTC:20200705T101500
DTSTAMP:20260420T151750
CREATED:20200618T120053Z
LAST-MODIFIED:20200709T182414Z
UID:11232-1593944100-1593944100@stpetepca.org
SUMMARY:Worship (Live Streaming)
DESCRIPTION:Click on the link to access the worship service through Facebook live streaming.
URL:https://stpetepca.org/event/worship-2020-03-08-2020-07-05/
LOCATION:St. Petersburg Presbyterian Church
CATEGORIES:Church Function
END:VEVENT
BEGIN:VEVENT
DTSTART;TZID=UTC:20200719T101500
DTEND;TZID=UTC:20200719T101500
DTSTAMP:20260420T151750
CREATED:20221229T130053Z
LAST-MODIFIED:20221229T212429Z
UID:8287-1595153700-1595153700@stpetepca.org
SUMMARY:Worship
DESCRIPTION:Click on the link to access the worship service through Facebook live streaming.
URL:https://stpetepca.org/event/worship/
LOCATION:St. Petersburg Presbyterian Church
CATEGORIES:Church Function
END:VEVENT
BEGIN:VEVENT
DTSTART;TZID=UTC:20200719T101500
DTEND;TZID=UTC:20200719T101500
DTSTAMP:20260420T151750
CREATED:20221229T130053Z
LAST-MODIFIED:20221229T212429Z
UID:8287-1595153700-1595153700@stpetepca.org
SUMMARY:Worship
DESCRIPTION:Click on the link to access the worship service through Facebook live streaming.
URL:https://stpetepca.org/event/worship/
LOCATION:St. Petersburg Presbyterian Church
CATEGORIES:Church Function
END:VEVENT
BEGIN:VEVENT
DTSTART;TZID=UTC:20200726T114500
DTEND;TZID=UTC:20200726T114500
DTSTAMP:20260420T151750
CREATED:20200707T182716Z
LAST-MODIFIED:20200707T182716Z
UID:11363-1595763900-1595763900@stpetepca.org
SUMMARY:Children and Youth Sunday School Teachers Meeting
DESCRIPTION:All those interested in helping in children’s and youth Sunday School\, along with all current leaders\, please join us Sunday\, July 26\, after worship for lunch to learn about the ministry and volunteer opportunities. \n 
URL:https://stpetepca.org/event/children-and-youth-sunday-school-teachers-meeting/
CATEGORIES:Church Function
END:VEVENT
END:VCALENDAR