BEGIN:VCALENDAR
VERSION:2.0
PRODID:-//St. Petersburg Presbyterian Church - ECPv6.15.20//NONSGML v1.0//EN
CALSCALE:GREGORIAN
METHOD:PUBLISH
X-WR-CALNAME:St. Petersburg Presbyterian Church
X-ORIGINAL-URL:https://stpetepca.org
X-WR-CALDESC:Events for St. Petersburg Presbyterian Church
REFRESH-INTERVAL;VALUE=DURATION:PT1H
X-Robots-Tag:noindex
X-PUBLISHED-TTL:PT1H
BEGIN:VTIMEZONE
TZID:UTC
BEGIN:STANDARD
TZOFFSETFROM:+0000
TZOFFSETTO:+0000
TZNAME:UTC
DTSTART:20190101T000000
END:STANDARD
END:VTIMEZONE
BEGIN:VTIMEZONE
TZID:America/New_York
BEGIN:DAYLIGHT
TZOFFSETFROM:-0500
TZOFFSETTO:-0400
TZNAME:EDT
DTSTART:20220313T070000
END:DAYLIGHT
BEGIN:STANDARD
TZOFFSETFROM:-0400
TZOFFSETTO:-0500
TZNAME:EST
DTSTART:20221106T060000
END:STANDARD
BEGIN:DAYLIGHT
TZOFFSETFROM:-0500
TZOFFSETTO:-0400
TZNAME:EDT
DTSTART:20230312T070000
END:DAYLIGHT
BEGIN:STANDARD
TZOFFSETFROM:-0400
TZOFFSETTO:-0500
TZNAME:EST
DTSTART:20231105T060000
END:STANDARD
BEGIN:DAYLIGHT
TZOFFSETFROM:-0500
TZOFFSETTO:-0400
TZNAME:EDT
DTSTART:20240310T070000
END:DAYLIGHT
BEGIN:STANDARD
TZOFFSETFROM:-0400
TZOFFSETTO:-0500
TZNAME:EST
DTSTART:20241103T060000
END:STANDARD
END:VTIMEZONE
BEGIN:VEVENT
DTSTART;TZID=UTC:20230910T083000
DTEND;TZID=UTC:20230910T083000
DTSTAMP:20260420T064159
CREATED:20230404T120059Z
LAST-MODIFIED:20230404T202609Z
UID:16377-1694334600-1694334600@stpetepca.org
SUMMARY:Congregational Prayer
DESCRIPTION:
URL:https://stpetepca.org/event/congregational-prayer-3-2023-05-28-2023-05-28-2023-09-03/
CATEGORIES:Church Function
END:VEVENT
BEGIN:VEVENT
DTSTART;TZID=UTC:20231224T090000
DTEND;TZID=UTC:20231224T100000
DTSTAMP:20260420T064159
CREATED:20230818T120056Z
LAST-MODIFIED:20231221T144354Z
UID:16874-1703408400-1703412000@stpetepca.org
SUMMARY:Sunday School
DESCRIPTION:Take advantage of the children\, youth and adult Sunday school classes to grow in the grace and knowledge of Jesus Christ. \n 
URL:https://stpetepca.org/event/sunday-school-2021-05-30-2023-12-24/
LOCATION:St. Petersburg Presbyterian Church
CATEGORIES:Church Function
ORGANIZER;CN="Alex Woods":MAILTO:a.woods@stpetepca.org
END:VEVENT
BEGIN:VEVENT
DTSTART;TZID=UTC:20200719T101500
DTEND;TZID=UTC:20200719T101500
DTSTAMP:20260420T064159
CREATED:20221229T130053Z
LAST-MODIFIED:20221229T212429Z
UID:8287-1595153700-1595153700@stpetepca.org
SUMMARY:Worship
DESCRIPTION:Click on the link to access the worship service through Facebook live streaming.
URL:https://stpetepca.org/event/worship/
LOCATION:St. Petersburg Presbyterian Church
CATEGORIES:Church Function
END:VEVENT
BEGIN:VEVENT
DTSTART;TZID=America/New_York:20231224T173000
DTEND;TZID=America/New_York:20231224T190000
DTSTAMP:20260420T064159
CREATED:20231229T184225Z
LAST-MODIFIED:20231229T184225Z
UID:17399-1703439000-1703444400@stpetepca.org
SUMMARY:Christmas Eve Service
DESCRIPTION:
URL:https://stpetepca.org/event/christmas-eve-service-4/
END:VEVENT
END:VCALENDAR