BEGIN:VCALENDAR
VERSION:2.0
PRODID:-//St. Petersburg Presbyterian Church - ECPv6.15.20//NONSGML v1.0//EN
CALSCALE:GREGORIAN
METHOD:PUBLISH
X-WR-CALNAME:St. Petersburg Presbyterian Church
X-ORIGINAL-URL:https://stpetepca.org
X-WR-CALDESC:Events for St. Petersburg Presbyterian Church
REFRESH-INTERVAL;VALUE=DURATION:PT1H
X-Robots-Tag:noindex
X-PUBLISHED-TTL:PT1H
BEGIN:VTIMEZONE
TZID:America/New_York
BEGIN:DAYLIGHT
TZOFFSETFROM:-0500
TZOFFSETTO:-0400
TZNAME:EDT
DTSTART:20220313T070000
END:DAYLIGHT
BEGIN:STANDARD
TZOFFSETFROM:-0400
TZOFFSETTO:-0500
TZNAME:EST
DTSTART:20221106T060000
END:STANDARD
BEGIN:DAYLIGHT
TZOFFSETFROM:-0500
TZOFFSETTO:-0400
TZNAME:EDT
DTSTART:20230312T070000
END:DAYLIGHT
BEGIN:STANDARD
TZOFFSETFROM:-0400
TZOFFSETTO:-0500
TZNAME:EST
DTSTART:20231105T060000
END:STANDARD
BEGIN:DAYLIGHT
TZOFFSETFROM:-0500
TZOFFSETTO:-0400
TZNAME:EDT
DTSTART:20240310T070000
END:DAYLIGHT
BEGIN:STANDARD
TZOFFSETFROM:-0400
TZOFFSETTO:-0500
TZNAME:EST
DTSTART:20241103T060000
END:STANDARD
END:VTIMEZONE
BEGIN:VTIMEZONE
TZID:UTC
BEGIN:STANDARD
TZOFFSETFROM:+0000
TZOFFSETTO:+0000
TZNAME:UTC
DTSTART:20200101T000000
END:STANDARD
END:VTIMEZONE
BEGIN:VEVENT
DTSTART;TZID=America/New_York:20230912T093000
DTEND;TZID=America/New_York:20230912T113000
DTSTAMP:20260420T035009
CREATED:20230818T150331Z
LAST-MODIFIED:20230818T152407Z
UID:16897-1694511000-1694518200@stpetepca.org
SUMMARY:Women's Bible Study
DESCRIPTION:Our fall study will begin Tuesday\, September 12th. We will be studying the book Remember Your Joy: A Bible Study of Salvation Stories in the Old Testament by Courtney Doctor and Melissa Kruger. We meet in the Fellowship Hall from 9:30am – 11:30am. The study runs for 9 weeks\, ending on Tuesday\, November 7th. Books are $10 and are available in Fellowship Hall. Childcare is provided. Any questions\, please email Sharon Stonecipher at smstone54@gmail.com. \n 
URL:https://stpetepca.org/event/womens-bible-study-8/
LOCATION:St. Petersburg Presbyterian Church
CATEGORIES:Church Function
ORGANIZER;CN="Sharon Stonecipher":MAILTO:smstone54@gmial.com
END:VEVENT
BEGIN:VEVENT
DTSTART;TZID=America/New_York:20230912T183000
DTEND;TZID=America/New_York:20230912T203000
DTSTAMP:20260420T035009
CREATED:20230908T143329Z
LAST-MODIFIED:20230908T143329Z
UID:17017-1694543400-1694550600@stpetepca.org
SUMMARY:Jenkins Community Group
DESCRIPTION:
URL:https://stpetepca.org/event/jenkins-community-group-4/
LOCATION:Jenkins\, 4541 52nd Ave N.\, St. Petersburg\, FL\, 33714\, United States
ORGANIZER;CN="Derik Jenkins":MAILTO:derikj@yahoo.com
END:VEVENT
BEGIN:VEVENT
DTSTART;TZID=UTC:20211012T193000
DTEND;TZID=UTC:20211012T203000
DTSTAMP:20260420T035009
CREATED:20230404T120000Z
LAST-MODIFIED:20230404T203135Z
UID:11497-1634067000-1634070600@stpetepca.org
SUMMARY:James Club
DESCRIPTION:The James Club group of AA is a Christ-centered outreach ministry for those struggling with alcohol and drug addictions. It meets on Tuesday evenings at 7:30 in the fellowship hall. For more information\, contact Kyle Krueger at kkrueger@bloomberg.net. \n 
URL:https://stpetepca.org/event/james-club-2/
LOCATION:St. Petersburg Presbyterian Church
CATEGORIES:Church Function
ORGANIZER;CN="Kyle  Krueger":MAILTO:kkrueger@bloomberg.net
END:VEVENT
END:VCALENDAR