BEGIN:VCALENDAR
VERSION:2.0
PRODID:-//St. Petersburg Presbyterian Church - ECPv6.15.20//NONSGML v1.0//EN
CALSCALE:GREGORIAN
METHOD:PUBLISH
X-WR-CALNAME:St. Petersburg Presbyterian Church
X-ORIGINAL-URL:https://stpetepca.org
X-WR-CALDESC:Events for St. Petersburg Presbyterian Church
REFRESH-INTERVAL;VALUE=DURATION:PT1H
X-Robots-Tag:noindex
X-PUBLISHED-TTL:PT1H
BEGIN:VTIMEZONE
TZID:America/New_York
BEGIN:DAYLIGHT
TZOFFSETFROM:-0500
TZOFFSETTO:-0400
TZNAME:EDT
DTSTART:20220313T070000
END:DAYLIGHT
BEGIN:STANDARD
TZOFFSETFROM:-0400
TZOFFSETTO:-0500
TZNAME:EST
DTSTART:20221106T060000
END:STANDARD
BEGIN:DAYLIGHT
TZOFFSETFROM:-0500
TZOFFSETTO:-0400
TZNAME:EDT
DTSTART:20230312T070000
END:DAYLIGHT
BEGIN:STANDARD
TZOFFSETFROM:-0400
TZOFFSETTO:-0500
TZNAME:EST
DTSTART:20231105T060000
END:STANDARD
BEGIN:DAYLIGHT
TZOFFSETFROM:-0500
TZOFFSETTO:-0400
TZNAME:EDT
DTSTART:20240310T070000
END:DAYLIGHT
BEGIN:STANDARD
TZOFFSETFROM:-0400
TZOFFSETTO:-0500
TZNAME:EST
DTSTART:20241103T060000
END:STANDARD
END:VTIMEZONE
BEGIN:VTIMEZONE
TZID:UTC
BEGIN:STANDARD
TZOFFSETFROM:+0000
TZOFFSETTO:+0000
TZNAME:UTC
DTSTART:20220101T000000
END:STANDARD
END:VTIMEZONE
BEGIN:VEVENT
DTSTART;TZID=America/New_York:20230922T070000
DTEND;TZID=America/New_York:20230922T080000
DTSTAMP:20260420T011644
CREATED:20230818T152656Z
LAST-MODIFIED:20230908T143449Z
UID:16919-1695366000-1695369600@stpetepca.org
SUMMARY:Men's Bible Study
DESCRIPTION:
URL:https://stpetepca.org/event/mens-bible-study-6/
LOCATION:St. Petersburg Presbyterian Church
CATEGORIES:Church Function
ORGANIZER;CN="Pastor David Harding":MAILTO:d.harding@stpetepca.org
END:VEVENT
BEGIN:VEVENT
DTSTART;TZID=UTC:20230922T180000
DTEND;TZID=UTC:20230922T210000
DTSTAMP:20260420T011644
CREATED:20230613T120044Z
LAST-MODIFIED:20230726T151619Z
UID:12607-1695405600-1695416400@stpetepca.org
SUMMARY:Membership Matters Seminar
DESCRIPTION:If you are interested in becoming a member of SPPC\, or want to learn more about the Christian faith and the ministries of our church\, then join us for “Membership Matters” on September 22-23. This is a weekend seminar\, Friday evening (dinner included) and Saturday morning (breakfast). To sign up click register\, email Michele at stpetepres.pca@gmail.com or call 727-329-6346. \n 
URL:https://stpetepca.org/event/membership-matters-seminar-2/
LOCATION:Harding’s\, 1541 Eden Isle Blvd. NE\, St. Petersburg\, Florida\, 33704
CATEGORIES:Church Function
END:VEVENT
END:VCALENDAR