BEGIN:VCALENDAR
VERSION:2.0
PRODID:-//St. Petersburg Presbyterian Church - ECPv6.15.20//NONSGML v1.0//EN
CALSCALE:GREGORIAN
METHOD:PUBLISH
X-WR-CALNAME:St. Petersburg Presbyterian Church
X-ORIGINAL-URL:https://stpetepca.org
X-WR-CALDESC:Events for St. Petersburg Presbyterian Church
REFRESH-INTERVAL;VALUE=DURATION:PT1H
X-Robots-Tag:noindex
X-PUBLISHED-TTL:PT1H
BEGIN:VTIMEZONE
TZID:America/New_York
BEGIN:DAYLIGHT
TZOFFSETFROM:-0500
TZOFFSETTO:-0400
TZNAME:EDT
DTSTART:20220313T070000
END:DAYLIGHT
BEGIN:STANDARD
TZOFFSETFROM:-0400
TZOFFSETTO:-0500
TZNAME:EST
DTSTART:20221106T060000
END:STANDARD
BEGIN:DAYLIGHT
TZOFFSETFROM:-0500
TZOFFSETTO:-0400
TZNAME:EDT
DTSTART:20230312T070000
END:DAYLIGHT
BEGIN:STANDARD
TZOFFSETFROM:-0400
TZOFFSETTO:-0500
TZNAME:EST
DTSTART:20231105T060000
END:STANDARD
BEGIN:DAYLIGHT
TZOFFSETFROM:-0500
TZOFFSETTO:-0400
TZNAME:EDT
DTSTART:20240310T070000
END:DAYLIGHT
BEGIN:STANDARD
TZOFFSETFROM:-0400
TZOFFSETTO:-0500
TZNAME:EST
DTSTART:20241103T060000
END:STANDARD
END:VTIMEZONE
BEGIN:VTIMEZONE
TZID:UTC
BEGIN:STANDARD
TZOFFSETFROM:+0000
TZOFFSETTO:+0000
TZNAME:UTC
DTSTART:20190101T000000
END:STANDARD
END:VTIMEZONE
BEGIN:VEVENT
DTSTART;TZID=America/New_York:20230827T090000
DTEND;TZID=America/New_York:20230827T100000
DTSTAMP:20260420T011617
CREATED:20230811T162019Z
LAST-MODIFIED:20230811T162019Z
UID:16844-1693126800-1693130400@stpetepca.org
SUMMARY:Round Robin Training and Emergency Evacuation Training
DESCRIPTION:Please mark your calendars for August 27th for our first ever SPPC Round Robin Training. One of the major barriers to training for our service teams is finding the time to do so\, thus we have decided to set aside a whole Sunday School hour (9–10am) on August 27th for team leaders to train their teams. \nThe format will be three rounds of 20-minute sessions. This will allow persons on multiple teams to sit through the training session for each of his/her teams. For example\, if someone served in the nursery\, the Greeting Team\, and the Hospitality Team\, then that person could attend the Nursery training during Session 1 (9-9:20 am)\, move to the Greeting Team training for Session 2 (9:20-9:40 am)\, and then on to the Hospitality training for Session 3 (9:40-10:00 am). If you have been thinking about serving\, this also presents a great opportunity to visit sessions and see which team you would like to join! \nAfter service\, we are also asking church members to stay an additional 15 minutes as Alex Rogers walks us through our emergency evacuation processes. \n 
URL:https://stpetepca.org/event/round-robin-training-and-emergency-evacuation-training/
CATEGORIES:Church Function
END:VEVENT
BEGIN:VEVENT
DTSTART;TZID=UTC:20230528T093000
DTEND;TZID=UTC:20230528T093000
DTSTAMP:20260420T011617
CREATED:20230404T120059Z
LAST-MODIFIED:20230404T202850Z
UID:16315-1685266200-1685266200@stpetepca.org
SUMMARY:Congregational Prayer
DESCRIPTION:
URL:https://stpetepca.org/event/congregational-prayer-3-2023-05-28-2023-05-28/
CATEGORIES:Church Function
END:VEVENT
BEGIN:VEVENT
DTSTART;TZID=UTC:20200719T101500
DTEND;TZID=UTC:20200719T101500
DTSTAMP:20260420T011617
CREATED:20221229T130053Z
LAST-MODIFIED:20221229T212429Z
UID:8287-1595153700-1595153700@stpetepca.org
SUMMARY:Worship
DESCRIPTION:Click on the link to access the worship service through Facebook live streaming.
URL:https://stpetepca.org/event/worship/
LOCATION:St. Petersburg Presbyterian Church
CATEGORIES:Church Function
END:VEVENT
END:VCALENDAR