BEGIN:VCALENDAR
VERSION:2.0
PRODID:-//St. Petersburg Presbyterian Church - ECPv6.15.20//NONSGML v1.0//EN
CALSCALE:GREGORIAN
METHOD:PUBLISH
X-ORIGINAL-URL:https://stpetepca.org
X-WR-CALDESC:Events for St. Petersburg Presbyterian Church
REFRESH-INTERVAL;VALUE=DURATION:PT1H
X-Robots-Tag:noindex
X-PUBLISHED-TTL:PT1H
BEGIN:VTIMEZONE
TZID:UTC
BEGIN:STANDARD
TZOFFSETFROM:+0000
TZOFFSETTO:+0000
TZNAME:UTC
DTSTART:20220101T000000
END:STANDARD
END:VTIMEZONE
BEGIN:VEVENT
DTSTART;TZID=UTC:20230817T180000
DTEND;TZID=UTC:20230817T200000
DTSTAMP:20260420T035051
CREATED:20230725T221541Z
LAST-MODIFIED:20230726T151019Z
UID:16770-1692295200-1692302400@stpetepca.org
SUMMARY:Women's Fellowship Dinner
DESCRIPTION:Join the women of SPPC at 6:00pm at BJ’s Restaurant and Brewhouse in Pinellas Park (3800 N Pk Blvd\, Pinellas Park\, FL 33781). Please RSVP to Kelly Rogers at kelly.lynn.rogers6@gmail.com so she can give them a head count. Hope to see you there!
URL:https://stpetepca.org/event/womens-fellowship-dinner-2/
LOCATION:BJ’s Restaurant\, 3800 N. Park Blvd\, Pinellas Park\, FL\, 33781
CATEGORIES:Church Function
ORGANIZER;CN="Kelly Rogers":MAILTO:kelly.lynn.rogers6@gmail.com
END:VEVENT
END:VCALENDAR