BEGIN:VCALENDAR
VERSION:2.0
PRODID:-//St. Petersburg Presbyterian Church - ECPv6.15.20//NONSGML v1.0//EN
CALSCALE:GREGORIAN
METHOD:PUBLISH
X-WR-CALNAME:St. Petersburg Presbyterian Church
X-ORIGINAL-URL:https://stpetepca.org
X-WR-CALDESC:Events for St. Petersburg Presbyterian Church
REFRESH-INTERVAL;VALUE=DURATION:PT1H
X-Robots-Tag:noindex
X-PUBLISHED-TTL:PT1H
BEGIN:VTIMEZONE
TZID:UTC
BEGIN:STANDARD
TZOFFSETFROM:+0000
TZOFFSETTO:+0000
TZNAME:UTC
DTSTART:20220101T000000
END:STANDARD
END:VTIMEZONE
BEGIN:VEVENT
DTSTART;TZID=UTC:20230607T180000
DTEND;TZID=UTC:20230607T200000
DTSTAMP:20260420T035055
CREATED:20230519T193314Z
LAST-MODIFIED:20230519T193314Z
UID:16612-1686160800-1686168000@stpetepca.org
SUMMARY:Wednesdays in the Word
DESCRIPTION:Be part of SPPC’s “Wednesdays in the Word” series\, beginning June 7. This summer\, we’ll be looking at Learn the Gospel from Matthias Media. Many of us know the gospel\, but still need help on how to present it. This course will not only prepare you for the opportunities God brings in your life to share the gospel\, but also deepen your understanding and appreciation of it as well! We’ll enjoy a pizza dinner at 6:00\, followed by a brief video and discussion around the tables. Books are available for purchase for $10 each. For more information contact Pastor Alex at a.woods@stpetepca.org. Also\, if you would like to help with childcare during some of the sessions\, please let Alex know. Use the sign-up sheets in the fellowship hall. \n 
URL:https://stpetepca.org/event/wednesdays-in-the-word-2/
LOCATION:St. Petersburg Presbyterian Church
END:VEVENT
END:VCALENDAR