BEGIN:VCALENDAR
VERSION:2.0
PRODID:-//St. Petersburg Presbyterian Church - ECPv6.15.20//NONSGML v1.0//EN
CALSCALE:GREGORIAN
METHOD:PUBLISH
X-WR-CALNAME:St. Petersburg Presbyterian Church
X-ORIGINAL-URL:https://stpetepca.org
X-WR-CALDESC:Events for St. Petersburg Presbyterian Church
REFRESH-INTERVAL;VALUE=DURATION:PT1H
X-Robots-Tag:noindex
X-PUBLISHED-TTL:PT1H
BEGIN:VTIMEZONE
TZID:UTC
BEGIN:STANDARD
TZOFFSETFROM:+0000
TZOFFSETTO:+0000
TZNAME:UTC
DTSTART:20220101T000000
END:STANDARD
END:VTIMEZONE
BEGIN:VEVENT
DTSTART;TZID=UTC:20230720T180000
DTEND;TZID=UTC:20230720T200000
DTSTAMP:20260420T035318
CREATED:20230711T202013Z
LAST-MODIFIED:20230711T230413Z
UID:16722-1689876000-1689883200@stpetepca.org
SUMMARY:Ladies Dinner Fellowship
DESCRIPTION:Mark your calendars for our next Ladies Dinner Fellowship Thursday\, July 20th at 6pm\nat BJ’s Restaurant and Brewhouse 3800 Park Blvd\, Pinellas Park\, FL.\nWe would love to see you there!! RSVP to Kelly Rogers (910) 578-9274. \n 
URL:https://stpetepca.org/event/ladies-dinner-fellowship-3/
LOCATION:BJ’s Restaurant\, 3800 N. Park Blvd\, Pinellas Park\, FL\, 33781
CATEGORIES:Church Function
ORGANIZER;CN="Kelly Rogers":MAILTO:kelly.lynn.rogers6@gmail.com
END:VEVENT
END:VCALENDAR