BEGIN:VCALENDAR
VERSION:2.0
PRODID:-//St. Petersburg Presbyterian Church - ECPv6.15.20//NONSGML v1.0//EN
CALSCALE:GREGORIAN
METHOD:PUBLISH
X-ORIGINAL-URL:https://stpetepca.org
X-WR-CALDESC:Events for St. Petersburg Presbyterian Church
REFRESH-INTERVAL;VALUE=DURATION:PT1H
X-Robots-Tag:noindex
X-PUBLISHED-TTL:PT1H
BEGIN:VTIMEZONE
TZID:UTC
BEGIN:STANDARD
TZOFFSETFROM:+0000
TZOFFSETTO:+0000
TZNAME:UTC
DTSTART:20220101T000000
END:STANDARD
END:VTIMEZONE
BEGIN:VEVENT
DTSTART;TZID=UTC:20230701T190000
DTEND;TZID=UTC:20230701T210000
DTSTAMP:20260420T035435
CREATED:20230616T181710Z
LAST-MODIFIED:20230616T181710Z
UID:16682-1688238000-1688245200@stpetepca.org
SUMMARY:Indelible Grace Music - Hymns and Stories Tour
DESCRIPTION:Kevin Twit\, founder of Indelible Grace Music (and son of Ken and Kay Twit) and his son\, Cooper\, will be leading us in singing some of the great hymns of the church. They will share the stories behind these hymns\, why they were written\, and how they still speak to us today. This is sure to be a treat for friends and family of all ages. Join us Saturday evening\, July 1\, at 7:00 p.m. (doors open at 6:30 p.m.). $5 per ticket at the door\, $15 max for families. Use this Eventbrite link to purchase tickets before July 1.
URL:https://stpetepca.org/event/indelible-grace-music-hymns-and-stories-tour/
LOCATION:St. Petersburg Presbyterian Church
END:VEVENT
END:VCALENDAR