BEGIN:VCALENDAR
VERSION:2.0
PRODID:-//St. Petersburg Presbyterian Church - ECPv6.15.20//NONSGML v1.0//EN
CALSCALE:GREGORIAN
METHOD:PUBLISH
X-ORIGINAL-URL:https://stpetepca.org
X-WR-CALDESC:Events for St. Petersburg Presbyterian Church
REFRESH-INTERVAL;VALUE=DURATION:PT1H
X-Robots-Tag:noindex
X-PUBLISHED-TTL:PT1H
BEGIN:VTIMEZONE
TZID:UTC
BEGIN:STANDARD
TZOFFSETFROM:+0000
TZOFFSETTO:+0000
TZNAME:UTC
DTSTART:20210101T000000
END:STANDARD
END:VTIMEZONE
BEGIN:VEVENT
DTSTART;TZID=UTC:20220915T093000
DTEND;TZID=UTC:20220915T130000
DTSTAMP:20260420T104048
CREATED:20220908T212602Z
LAST-MODIFIED:20220908T212602Z
UID:15443-1663234200-1663246800@stpetepca.org
SUMMARY:Charlotte Mason
DESCRIPTION:
URL:https://stpetepca.org/event/charlotte-mason/
LOCATION:St. Petersburg Presbyterian Church
CATEGORIES:Church Function
END:VEVENT
BEGIN:VEVENT
DTSTART;TZID=UTC:20220915T180000
DTEND;TZID=UTC:20220915T200000
DTSTAMP:20260420T104048
CREATED:20220901T230600Z
LAST-MODIFIED:20220901T230706Z
UID:15392-1663264800-1663272000@stpetepca.org
SUMMARY:Ladies Dinner Fellowship
DESCRIPTION:Join the ladies of the church for a time of friendship and fellowship over dinner! We will be continuing our informal Ladies Dinner Fellowship throughout the rest of the year. To simplify\, we will plan on meeting the third Thursday of each month at 6pm at BJ’s in Pinellas Park. Please RSVP to Kelly Rogers at kelly.lynn.rogers6@gmail.com!
URL:https://stpetepca.org/event/ladies-dinner-fellowship/
LOCATION:BJ’s Restaurant\, 3800 N. Park Blvd\, Pinellas Park\, FL\, 33781
CATEGORIES:Church Function
ORGANIZER;CN="Kelly Rogers":MAILTO:kelly.lynn.rogers6@gmail.com
END:VEVENT
END:VCALENDAR