BEGIN:VCALENDAR
VERSION:2.0
PRODID:-//St. Petersburg Presbyterian Church - ECPv6.15.20//NONSGML v1.0//EN
CALSCALE:GREGORIAN
METHOD:PUBLISH
X-ORIGINAL-URL:https://stpetepca.org
X-WR-CALDESC:Events for St. Petersburg Presbyterian Church
REFRESH-INTERVAL;VALUE=DURATION:PT1H
X-Robots-Tag:noindex
X-PUBLISHED-TTL:PT1H
BEGIN:VTIMEZONE
TZID:UTC
BEGIN:STANDARD
TZOFFSETFROM:+0000
TZOFFSETTO:+0000
TZNAME:UTC
DTSTART:20200101T000000
END:STANDARD
END:VTIMEZONE
BEGIN:VEVENT
DTSTART;TZID=UTC:20211120T090000
DTEND;TZID=UTC:20211120T090000
DTSTAMP:20260420T080444
CREATED:20211116T194717Z
LAST-MODIFIED:20211116T195405Z
UID:13678-1637398800-1637398800@stpetepca.org
SUMMARY:Christmas Decorating
DESCRIPTION:It’s time to decorate the sanctuary and fellowship hall for the Advent/Christmas season. Join us at 9:00 am. today. Lunch will be provided! We need men to help setup trees! Please RSVP by contacting Lynn Tanner @ 727-482-4855 or see the sign-up sheet in the fellowship hall. Everyone is welcome! \n 
URL:https://stpetepca.org/event/christmas-decorating-2/
END:VEVENT
END:VCALENDAR