BEGIN:VCALENDAR
VERSION:2.0
PRODID:-//St. Petersburg Presbyterian Church - ECPv6.15.20//NONSGML v1.0//EN
CALSCALE:GREGORIAN
METHOD:PUBLISH
X-WR-CALNAME:St. Petersburg Presbyterian Church
X-ORIGINAL-URL:https://stpetepca.org
X-WR-CALDESC:Events for St. Petersburg Presbyterian Church
REFRESH-INTERVAL;VALUE=DURATION:PT1H
X-Robots-Tag:noindex
X-PUBLISHED-TTL:PT1H
BEGIN:VTIMEZONE
TZID:UTC
BEGIN:STANDARD
TZOFFSETFROM:+0000
TZOFFSETTO:+0000
TZNAME:UTC
DTSTART:20200101T000000
END:STANDARD
END:VTIMEZONE
BEGIN:VEVENT
DTSTART;TZID=UTC:20210924T070000
DTEND;TZID=UTC:20210924T070000
DTSTAMP:20260420T092110
CREATED:20210827T205637Z
LAST-MODIFIED:20211209T234020Z
UID:13228-1632466800-1632466800@stpetepca.org
SUMMARY:Men’s Bible Study
DESCRIPTION:The Men’s Bible study meets Friday mornings\, at 7:00 a.m. in the fellowship hall. Join with other men for fellowship and encouragement in our walk with Christ. We are studying the Gospel of John. For more information\, contact Dave Harding at 727-434-9048 or d.harding@stpetepca.org. \n  \n 
URL:https://stpetepca.org/event/mens-bible-study-4/
LOCATION:St. Petersburg Presbyterian Church
CATEGORIES:Church Function
ORGANIZER;CN="Pastor David Harding":MAILTO:d.harding@stpetepca.org
END:VEVENT
END:VCALENDAR