BEGIN:VCALENDAR
VERSION:2.0
PRODID:-//St. Petersburg Presbyterian Church - ECPv6.15.20//NONSGML v1.0//EN
CALSCALE:GREGORIAN
METHOD:PUBLISH
X-WR-CALNAME:St. Petersburg Presbyterian Church
X-ORIGINAL-URL:https://stpetepca.org
X-WR-CALDESC:Events for St. Petersburg Presbyterian Church
REFRESH-INTERVAL;VALUE=DURATION:PT1H
X-Robots-Tag:noindex
X-PUBLISHED-TTL:PT1H
BEGIN:VTIMEZONE
TZID:UTC
BEGIN:STANDARD
TZOFFSETFROM:+0000
TZOFFSETTO:+0000
TZNAME:UTC
DTSTART:20200101T000000
END:STANDARD
END:VTIMEZONE
BEGIN:VEVENT
DTSTART;TZID=UTC:20210921T093000
DTEND;TZID=UTC:20210921T093000
DTSTAMP:20260420T092102
CREATED:20210730T191159Z
LAST-MODIFIED:20210730T191251Z
UID:13151-1632216600-1632216600@stpetepca.org
SUMMARY:Fall Women’s Bible Study
DESCRIPTION:SPPC’s Women’s Bible Study will resume on Tuesday mornings\, at 9:30 a.m. at the fellowship hall\, beginning September 14. We will be studying Nancy Guthrie’s book\, Saints and Scoundrels in the Story of Jesus. Books and study questions will be available in the fellowship hall\, starting Sunday\, August 8\, for $15. For more information\, contact Sharon Stonecipher at smstone54@gmail.com. \n 
URL:https://stpetepca.org/event/fall-womens-bible-study-2021-09-21/
LOCATION:St. Petersburg Presbyterian Church
ORGANIZER;CN="Sharon Stonecipher":MAILTO:smstone54@gmial.com
END:VEVENT
BEGIN:VEVENT
DTSTART;TZID=UTC:20210914T183000
DTEND;TZID=UTC:20210914T183000
DTSTAMP:20260420T092102
CREATED:20210331T120047Z
LAST-MODIFIED:20220331T203735Z
UID:13324-1631644200-1631644200@stpetepca.org
SUMMARY:Jenkins Community Group
DESCRIPTION:
URL:https://stpetepca.org/event/jenkins-community-group-2/
LOCATION:Jenkins\, 4541 52nd Ave N.\, St. Petersburg\, FL\, 33714\, United States
CATEGORIES:Church Function
ORGANIZER;CN="Derik Jenkins":MAILTO:derikj@yahoo.com
END:VEVENT
END:VCALENDAR